BEGIN:VCALENDAR
VERSION:2.0
PRODID:-//First Presbyterian Church - ECPv6.15.20//NONSGML v1.0//EN
CALSCALE:GREGORIAN
METHOD:PUBLISH
X-ORIGINAL-URL:https://www.fpcomaha.org
X-WR-CALDESC:Events for First Presbyterian Church
REFRESH-INTERVAL;VALUE=DURATION:PT1H
X-Robots-Tag:noindex
X-PUBLISHED-TTL:PT1H
BEGIN:VTIMEZONE
TZID:America/Chicago
BEGIN:DAYLIGHT
TZOFFSETFROM:-0600
TZOFFSETTO:-0500
TZNAME:CDT
DTSTART:20260308T080000
END:DAYLIGHT
BEGIN:STANDARD
TZOFFSETFROM:-0500
TZOFFSETTO:-0600
TZNAME:CST
DTSTART:20261101T070000
END:STANDARD
BEGIN:DAYLIGHT
TZOFFSETFROM:-0600
TZOFFSETTO:-0500
TZNAME:CDT
DTSTART:20270314T080000
END:DAYLIGHT
BEGIN:STANDARD
TZOFFSETFROM:-0500
TZOFFSETTO:-0600
TZNAME:CST
DTSTART:20271107T070000
END:STANDARD
BEGIN:DAYLIGHT
TZOFFSETFROM:-0600
TZOFFSETTO:-0500
TZNAME:CDT
DTSTART:20280312T080000
END:DAYLIGHT
BEGIN:STANDARD
TZOFFSETFROM:-0500
TZOFFSETTO:-0600
TZNAME:CST
DTSTART:20281105T070000
END:STANDARD
END:VTIMEZONE
BEGIN:VEVENT
DTSTART;TZID=America/Chicago:20270304T153000
DTEND;TZID=America/Chicago:20270304T171500
DTSTAMP:20260419T233746
CREATED:20161116T034731Z
LAST-MODIFIED:20161116T034731Z
UID:19854-1804174200-1804180500@www.fpcomaha.org
SUMMARY:Hand Up Food Pantry
DESCRIPTION:First Presbyterian Church’s Hand Up Food Pantry will be open this Thursday from 3:30 pm to 5:15 pm. Our Food Pantry has moved back inside the church building.  \nMasks are optional for those who have been vaccinated.  We request those that are not vaccinated to please wear a mask.   \n  \nIf you have  questions or urgent needs please call the church office at 402 345-5383.  During this difficult and stressful time we are dedicated to help our community the best we can and the food pantry is one way we can give our friends and neighbors a Hand-Up. \n  \n  \n*In accordance with Federal civil laws and U.S. Department of Agriculture (USDA) civil rights regulations and policies\, the USDA\, its Agencies\, offices\, and employees\, and institutions participating in or administering USDA programs are prohibited from discriminating based on race\, color\, national origin\, sex\, disability\, age\, or reprisal or retaliation for prior civil rights activity in any program or activity conducted or funded by USDA. Persons with disabilities who require alternative means of communication for program information (e.g. Braille\, large print\, audiotape\, American Sign Language\, etc.) should contact the Agency (State or local) where they applied for benefits.  Individuals who are deaf\, hard of hearing or have speech disabilities may contact USDA through the Federal Relay Service as (800)877-8339. Additionally\, program information may be made available in languages other than English.
URL:https://www.fpcomaha.org/event/hand-up-food-pantry-2020-03-19-2027-03-04/
LOCATION:First Presbyterian Church\, 216 So 34th Street\, Omaha\, NE\, 68131\, United States
CATEGORIES:Calendar,Mission
ATTACH;FMTTYPE=image/jpeg:https://www.fpcomaha.org/wp-content/uploads/2016/11/open-sign_GJ-OEW0_-5-e1545951623889.jpg
END:VEVENT
BEGIN:VEVENT
DTSTART;TZID=America/Chicago:20270311T153000
DTEND;TZID=America/Chicago:20270311T171500
DTSTAMP:20260419T233746
CREATED:20161116T034731Z
LAST-MODIFIED:20161116T034731Z
UID:19860-1804779000-1804785300@www.fpcomaha.org
SUMMARY:Hand Up Food Pantry
DESCRIPTION:First Presbyterian Church’s Hand Up Food Pantry will be open this Thursday from 3:30 pm to 5:15 pm. Our Food Pantry has moved back inside the church building.  \nMasks are optional for those who have been vaccinated.  We request those that are not vaccinated to please wear a mask.   \n  \nIf you have  questions or urgent needs please call the church office at 402 345-5383.  During this difficult and stressful time we are dedicated to help our community the best we can and the food pantry is one way we can give our friends and neighbors a Hand-Up. \n  \n  \n*In accordance with Federal civil laws and U.S. Department of Agriculture (USDA) civil rights regulations and policies\, the USDA\, its Agencies\, offices\, and employees\, and institutions participating in or administering USDA programs are prohibited from discriminating based on race\, color\, national origin\, sex\, disability\, age\, or reprisal or retaliation for prior civil rights activity in any program or activity conducted or funded by USDA. Persons with disabilities who require alternative means of communication for program information (e.g. Braille\, large print\, audiotape\, American Sign Language\, etc.) should contact the Agency (State or local) where they applied for benefits.  Individuals who are deaf\, hard of hearing or have speech disabilities may contact USDA through the Federal Relay Service as (800)877-8339. Additionally\, program information may be made available in languages other than English.
URL:https://www.fpcomaha.org/event/hand-up-food-pantry-2020-03-19-2027-03-11/
LOCATION:First Presbyterian Church\, 216 So 34th Street\, Omaha\, NE\, 68131\, United States
CATEGORIES:Calendar,Mission
ATTACH;FMTTYPE=image/jpeg:https://www.fpcomaha.org/wp-content/uploads/2016/11/open-sign_GJ-OEW0_-5-e1545951623889.jpg
END:VEVENT
BEGIN:VEVENT
DTSTART;TZID=America/Chicago:20270318T153000
DTEND;TZID=America/Chicago:20270318T171500
DTSTAMP:20260419T233746
CREATED:20161116T034731Z
LAST-MODIFIED:20161116T034731Z
UID:19872-1805383800-1805390100@www.fpcomaha.org
SUMMARY:Hand Up Food Pantry
DESCRIPTION:First Presbyterian Church’s Hand Up Food Pantry will be open this Thursday from 3:30 pm to 5:15 pm. Our Food Pantry has moved back inside the church building.  \nMasks are optional for those who have been vaccinated.  We request those that are not vaccinated to please wear a mask.   \n  \nIf you have  questions or urgent needs please call the church office at 402 345-5383.  During this difficult and stressful time we are dedicated to help our community the best we can and the food pantry is one way we can give our friends and neighbors a Hand-Up. \n  \n  \n*In accordance with Federal civil laws and U.S. Department of Agriculture (USDA) civil rights regulations and policies\, the USDA\, its Agencies\, offices\, and employees\, and institutions participating in or administering USDA programs are prohibited from discriminating based on race\, color\, national origin\, sex\, disability\, age\, or reprisal or retaliation for prior civil rights activity in any program or activity conducted or funded by USDA. Persons with disabilities who require alternative means of communication for program information (e.g. Braille\, large print\, audiotape\, American Sign Language\, etc.) should contact the Agency (State or local) where they applied for benefits.  Individuals who are deaf\, hard of hearing or have speech disabilities may contact USDA through the Federal Relay Service as (800)877-8339. Additionally\, program information may be made available in languages other than English.
URL:https://www.fpcomaha.org/event/hand-up-food-pantry-2020-03-19-2027-03-18/
LOCATION:First Presbyterian Church\, 216 So 34th Street\, Omaha\, NE\, 68131\, United States
CATEGORIES:Calendar,Mission
ATTACH;FMTTYPE=image/jpeg:https://www.fpcomaha.org/wp-content/uploads/2016/11/open-sign_GJ-OEW0_-5-e1545951623889.jpg
END:VEVENT
BEGIN:VEVENT
DTSTART;TZID=America/Chicago:20270325T153000
DTEND;TZID=America/Chicago:20270325T171500
DTSTAMP:20260419T233746
CREATED:20161116T034731Z
LAST-MODIFIED:20161116T034731Z
UID:19880-1805988600-1805994900@www.fpcomaha.org
SUMMARY:Hand Up Food Pantry
DESCRIPTION:First Presbyterian Church’s Hand Up Food Pantry will be open this Thursday from 3:30 pm to 5:15 pm. Our Food Pantry has moved back inside the church building.  \nMasks are optional for those who have been vaccinated.  We request those that are not vaccinated to please wear a mask.   \n  \nIf you have  questions or urgent needs please call the church office at 402 345-5383.  During this difficult and stressful time we are dedicated to help our community the best we can and the food pantry is one way we can give our friends and neighbors a Hand-Up. \n  \n  \n*In accordance with Federal civil laws and U.S. Department of Agriculture (USDA) civil rights regulations and policies\, the USDA\, its Agencies\, offices\, and employees\, and institutions participating in or administering USDA programs are prohibited from discriminating based on race\, color\, national origin\, sex\, disability\, age\, or reprisal or retaliation for prior civil rights activity in any program or activity conducted or funded by USDA. Persons with disabilities who require alternative means of communication for program information (e.g. Braille\, large print\, audiotape\, American Sign Language\, etc.) should contact the Agency (State or local) where they applied for benefits.  Individuals who are deaf\, hard of hearing or have speech disabilities may contact USDA through the Federal Relay Service as (800)877-8339. Additionally\, program information may be made available in languages other than English.
URL:https://www.fpcomaha.org/event/hand-up-food-pantry-2020-03-19-2027-03-25/
LOCATION:First Presbyterian Church\, 216 So 34th Street\, Omaha\, NE\, 68131\, United States
CATEGORIES:Calendar,Mission
ATTACH;FMTTYPE=image/jpeg:https://www.fpcomaha.org/wp-content/uploads/2016/11/open-sign_GJ-OEW0_-5-e1545951623889.jpg
END:VEVENT
BEGIN:VEVENT
DTSTART;TZID=America/Chicago:20270401T153000
DTEND;TZID=America/Chicago:20270401T171500
DTSTAMP:20260419T233746
CREATED:20161116T034731Z
LAST-MODIFIED:20161116T034731Z
UID:19883-1806593400-1806599700@www.fpcomaha.org
SUMMARY:Hand Up Food Pantry
DESCRIPTION:First Presbyterian Church’s Hand Up Food Pantry will be open this Thursday from 3:30 pm to 5:15 pm. Our Food Pantry has moved back inside the church building.  \nMasks are optional for those who have been vaccinated.  We request those that are not vaccinated to please wear a mask.   \n  \nIf you have  questions or urgent needs please call the church office at 402 345-5383.  During this difficult and stressful time we are dedicated to help our community the best we can and the food pantry is one way we can give our friends and neighbors a Hand-Up. \n  \n  \n*In accordance with Federal civil laws and U.S. Department of Agriculture (USDA) civil rights regulations and policies\, the USDA\, its Agencies\, offices\, and employees\, and institutions participating in or administering USDA programs are prohibited from discriminating based on race\, color\, national origin\, sex\, disability\, age\, or reprisal or retaliation for prior civil rights activity in any program or activity conducted or funded by USDA. Persons with disabilities who require alternative means of communication for program information (e.g. Braille\, large print\, audiotape\, American Sign Language\, etc.) should contact the Agency (State or local) where they applied for benefits.  Individuals who are deaf\, hard of hearing or have speech disabilities may contact USDA through the Federal Relay Service as (800)877-8339. Additionally\, program information may be made available in languages other than English.
URL:https://www.fpcomaha.org/event/hand-up-food-pantry-2020-03-19-2027-04-01/
LOCATION:First Presbyterian Church\, 216 So 34th Street\, Omaha\, NE\, 68131\, United States
CATEGORIES:Calendar,Mission
ATTACH;FMTTYPE=image/jpeg:https://www.fpcomaha.org/wp-content/uploads/2016/11/open-sign_GJ-OEW0_-5-e1545951623889.jpg
END:VEVENT
BEGIN:VEVENT
DTSTART;TZID=America/Chicago:20270408T153000
DTEND;TZID=America/Chicago:20270408T171500
DTSTAMP:20260419T233746
CREATED:20161116T034731Z
LAST-MODIFIED:20161116T034731Z
UID:19885-1807198200-1807204500@www.fpcomaha.org
SUMMARY:Hand Up Food Pantry
DESCRIPTION:First Presbyterian Church’s Hand Up Food Pantry will be open this Thursday from 3:30 pm to 5:15 pm. Our Food Pantry has moved back inside the church building.  \nMasks are optional for those who have been vaccinated.  We request those that are not vaccinated to please wear a mask.   \n  \nIf you have  questions or urgent needs please call the church office at 402 345-5383.  During this difficult and stressful time we are dedicated to help our community the best we can and the food pantry is one way we can give our friends and neighbors a Hand-Up. \n  \n  \n*In accordance with Federal civil laws and U.S. Department of Agriculture (USDA) civil rights regulations and policies\, the USDA\, its Agencies\, offices\, and employees\, and institutions participating in or administering USDA programs are prohibited from discriminating based on race\, color\, national origin\, sex\, disability\, age\, or reprisal or retaliation for prior civil rights activity in any program or activity conducted or funded by USDA. Persons with disabilities who require alternative means of communication for program information (e.g. Braille\, large print\, audiotape\, American Sign Language\, etc.) should contact the Agency (State or local) where they applied for benefits.  Individuals who are deaf\, hard of hearing or have speech disabilities may contact USDA through the Federal Relay Service as (800)877-8339. Additionally\, program information may be made available in languages other than English.
URL:https://www.fpcomaha.org/event/hand-up-food-pantry-2020-03-19-2027-04-08/
LOCATION:First Presbyterian Church\, 216 So 34th Street\, Omaha\, NE\, 68131\, United States
CATEGORIES:Calendar,Mission
ATTACH;FMTTYPE=image/jpeg:https://www.fpcomaha.org/wp-content/uploads/2016/11/open-sign_GJ-OEW0_-5-e1545951623889.jpg
END:VEVENT
BEGIN:VEVENT
DTSTART;TZID=America/Chicago:20270415T153000
DTEND;TZID=America/Chicago:20270415T171500
DTSTAMP:20260419T233746
CREATED:20161116T034731Z
LAST-MODIFIED:20161116T034731Z
UID:19889-1807803000-1807809300@www.fpcomaha.org
SUMMARY:Hand Up Food Pantry
DESCRIPTION:First Presbyterian Church’s Hand Up Food Pantry will be open this Thursday from 3:30 pm to 5:15 pm. Our Food Pantry has moved back inside the church building.  \nMasks are optional for those who have been vaccinated.  We request those that are not vaccinated to please wear a mask.   \n  \nIf you have  questions or urgent needs please call the church office at 402 345-5383.  During this difficult and stressful time we are dedicated to help our community the best we can and the food pantry is one way we can give our friends and neighbors a Hand-Up. \n  \n  \n*In accordance with Federal civil laws and U.S. Department of Agriculture (USDA) civil rights regulations and policies\, the USDA\, its Agencies\, offices\, and employees\, and institutions participating in or administering USDA programs are prohibited from discriminating based on race\, color\, national origin\, sex\, disability\, age\, or reprisal or retaliation for prior civil rights activity in any program or activity conducted or funded by USDA. Persons with disabilities who require alternative means of communication for program information (e.g. Braille\, large print\, audiotape\, American Sign Language\, etc.) should contact the Agency (State or local) where they applied for benefits.  Individuals who are deaf\, hard of hearing or have speech disabilities may contact USDA through the Federal Relay Service as (800)877-8339. Additionally\, program information may be made available in languages other than English.
URL:https://www.fpcomaha.org/event/hand-up-food-pantry-2020-03-19-2027-04-15/
LOCATION:First Presbyterian Church\, 216 So 34th Street\, Omaha\, NE\, 68131\, United States
CATEGORIES:Calendar,Mission
ATTACH;FMTTYPE=image/jpeg:https://www.fpcomaha.org/wp-content/uploads/2016/11/open-sign_GJ-OEW0_-5-e1545951623889.jpg
END:VEVENT
BEGIN:VEVENT
DTSTART;TZID=America/Chicago:20270422T153000
DTEND;TZID=America/Chicago:20270422T171500
DTSTAMP:20260419T233746
CREATED:20161116T034731Z
LAST-MODIFIED:20161116T034731Z
UID:19891-1808407800-1808414100@www.fpcomaha.org
SUMMARY:Hand Up Food Pantry
DESCRIPTION:First Presbyterian Church’s Hand Up Food Pantry will be open this Thursday from 3:30 pm to 5:15 pm. Our Food Pantry has moved back inside the church building.  \nMasks are optional for those who have been vaccinated.  We request those that are not vaccinated to please wear a mask.   \n  \nIf you have  questions or urgent needs please call the church office at 402 345-5383.  During this difficult and stressful time we are dedicated to help our community the best we can and the food pantry is one way we can give our friends and neighbors a Hand-Up. \n  \n  \n*In accordance with Federal civil laws and U.S. Department of Agriculture (USDA) civil rights regulations and policies\, the USDA\, its Agencies\, offices\, and employees\, and institutions participating in or administering USDA programs are prohibited from discriminating based on race\, color\, national origin\, sex\, disability\, age\, or reprisal or retaliation for prior civil rights activity in any program or activity conducted or funded by USDA. Persons with disabilities who require alternative means of communication for program information (e.g. Braille\, large print\, audiotape\, American Sign Language\, etc.) should contact the Agency (State or local) where they applied for benefits.  Individuals who are deaf\, hard of hearing or have speech disabilities may contact USDA through the Federal Relay Service as (800)877-8339. Additionally\, program information may be made available in languages other than English.
URL:https://www.fpcomaha.org/event/hand-up-food-pantry-2020-03-19-2027-04-22/
LOCATION:First Presbyterian Church\, 216 So 34th Street\, Omaha\, NE\, 68131\, United States
CATEGORIES:Calendar,Mission
ATTACH;FMTTYPE=image/jpeg:https://www.fpcomaha.org/wp-content/uploads/2016/11/open-sign_GJ-OEW0_-5-e1545951623889.jpg
END:VEVENT
BEGIN:VEVENT
DTSTART;TZID=America/Chicago:20270429T153000
DTEND;TZID=America/Chicago:20270429T171500
DTSTAMP:20260419T233746
CREATED:20161116T034731Z
LAST-MODIFIED:20161116T034731Z
UID:19895-1809012600-1809018900@www.fpcomaha.org
SUMMARY:Hand Up Food Pantry
DESCRIPTION:First Presbyterian Church’s Hand Up Food Pantry will be open this Thursday from 3:30 pm to 5:15 pm. Our Food Pantry has moved back inside the church building.  \nMasks are optional for those who have been vaccinated.  We request those that are not vaccinated to please wear a mask.   \n  \nIf you have  questions or urgent needs please call the church office at 402 345-5383.  During this difficult and stressful time we are dedicated to help our community the best we can and the food pantry is one way we can give our friends and neighbors a Hand-Up. \n  \n  \n*In accordance with Federal civil laws and U.S. Department of Agriculture (USDA) civil rights regulations and policies\, the USDA\, its Agencies\, offices\, and employees\, and institutions participating in or administering USDA programs are prohibited from discriminating based on race\, color\, national origin\, sex\, disability\, age\, or reprisal or retaliation for prior civil rights activity in any program or activity conducted or funded by USDA. Persons with disabilities who require alternative means of communication for program information (e.g. Braille\, large print\, audiotape\, American Sign Language\, etc.) should contact the Agency (State or local) where they applied for benefits.  Individuals who are deaf\, hard of hearing or have speech disabilities may contact USDA through the Federal Relay Service as (800)877-8339. Additionally\, program information may be made available in languages other than English.
URL:https://www.fpcomaha.org/event/hand-up-food-pantry-2020-03-19-2027-04-29/
LOCATION:First Presbyterian Church\, 216 So 34th Street\, Omaha\, NE\, 68131\, United States
CATEGORIES:Calendar,Mission
ATTACH;FMTTYPE=image/jpeg:https://www.fpcomaha.org/wp-content/uploads/2016/11/open-sign_GJ-OEW0_-5-e1545951623889.jpg
END:VEVENT
BEGIN:VEVENT
DTSTART;TZID=America/Chicago:20270506T153000
DTEND;TZID=America/Chicago:20270506T171500
DTSTAMP:20260419T233746
CREATED:20161116T034731Z
LAST-MODIFIED:20161116T034731Z
UID:19898-1809617400-1809623700@www.fpcomaha.org
SUMMARY:Hand Up Food Pantry
DESCRIPTION:First Presbyterian Church’s Hand Up Food Pantry will be open this Thursday from 3:30 pm to 5:15 pm. Our Food Pantry has moved back inside the church building.  \nMasks are optional for those who have been vaccinated.  We request those that are not vaccinated to please wear a mask.   \n  \nIf you have  questions or urgent needs please call the church office at 402 345-5383.  During this difficult and stressful time we are dedicated to help our community the best we can and the food pantry is one way we can give our friends and neighbors a Hand-Up. \n  \n  \n*In accordance with Federal civil laws and U.S. Department of Agriculture (USDA) civil rights regulations and policies\, the USDA\, its Agencies\, offices\, and employees\, and institutions participating in or administering USDA programs are prohibited from discriminating based on race\, color\, national origin\, sex\, disability\, age\, or reprisal or retaliation for prior civil rights activity in any program or activity conducted or funded by USDA. Persons with disabilities who require alternative means of communication for program information (e.g. Braille\, large print\, audiotape\, American Sign Language\, etc.) should contact the Agency (State or local) where they applied for benefits.  Individuals who are deaf\, hard of hearing or have speech disabilities may contact USDA through the Federal Relay Service as (800)877-8339. Additionally\, program information may be made available in languages other than English.
URL:https://www.fpcomaha.org/event/hand-up-food-pantry-2020-03-19-2027-05-06/
LOCATION:First Presbyterian Church\, 216 So 34th Street\, Omaha\, NE\, 68131\, United States
CATEGORIES:Calendar,Mission
ATTACH;FMTTYPE=image/jpeg:https://www.fpcomaha.org/wp-content/uploads/2016/11/open-sign_GJ-OEW0_-5-e1545951623889.jpg
END:VEVENT
BEGIN:VEVENT
DTSTART;TZID=America/Chicago:20270513T153000
DTEND;TZID=America/Chicago:20270513T171500
DTSTAMP:20260419T233746
CREATED:20161116T034731Z
LAST-MODIFIED:20161116T034731Z
UID:19901-1810222200-1810228500@www.fpcomaha.org
SUMMARY:Hand Up Food Pantry
DESCRIPTION:First Presbyterian Church’s Hand Up Food Pantry will be open this Thursday from 3:30 pm to 5:15 pm. Our Food Pantry has moved back inside the church building.  \nMasks are optional for those who have been vaccinated.  We request those that are not vaccinated to please wear a mask.   \n  \nIf you have  questions or urgent needs please call the church office at 402 345-5383.  During this difficult and stressful time we are dedicated to help our community the best we can and the food pantry is one way we can give our friends and neighbors a Hand-Up. \n  \n  \n*In accordance with Federal civil laws and U.S. Department of Agriculture (USDA) civil rights regulations and policies\, the USDA\, its Agencies\, offices\, and employees\, and institutions participating in or administering USDA programs are prohibited from discriminating based on race\, color\, national origin\, sex\, disability\, age\, or reprisal or retaliation for prior civil rights activity in any program or activity conducted or funded by USDA. Persons with disabilities who require alternative means of communication for program information (e.g. Braille\, large print\, audiotape\, American Sign Language\, etc.) should contact the Agency (State or local) where they applied for benefits.  Individuals who are deaf\, hard of hearing or have speech disabilities may contact USDA through the Federal Relay Service as (800)877-8339. Additionally\, program information may be made available in languages other than English.
URL:https://www.fpcomaha.org/event/hand-up-food-pantry-2020-03-19-2027-05-13/
LOCATION:First Presbyterian Church\, 216 So 34th Street\, Omaha\, NE\, 68131\, United States
CATEGORIES:Calendar,Mission
ATTACH;FMTTYPE=image/jpeg:https://www.fpcomaha.org/wp-content/uploads/2016/11/open-sign_GJ-OEW0_-5-e1545951623889.jpg
END:VEVENT
END:VCALENDAR